BEGIN:VCALENDAR
VERSION:2.0
PRODID:-//hacksw/handcal//NONSGML v1.0//EN
BEGIN:VEVENT
SUMMARY:FC pse (revision)
UID:588b2e42-6281-40e9-a0d5-560efcc4ee73
DTSTART:20260425T070000Z
DTEND:20260425T150000Z
LOCATION:Localisation   
CATEGORIES:Formation
STATUS:
DESCRIPTION:<p><a
 href="https://www.asca44.com/en-savoir-plus/formation-continue-revision-pse-176607"
 target="_blank" rel="noreferrer noopener">inscription</a></p>
URL;VALUE=URI:https://www.asca44.com/evenements/2026/04/25/fc-pse-revision-2429500
END:VEVENT
END:VCALENDAR
