BEGIN:VCALENDAR
VERSION:2.0
PRODID:-//hacksw/handcal//NONSGML v1.0//EN
BEGIN:VEVENT
SUMMARY:FC pse (revision)
UID:eb25364d-98ce-419c-9554-bfaaf21147fe
DTSTART:20260508T070000Z
DTEND:20260508T150000Z
LOCATION:Localisation   
CATEGORIES:Formation
STATUS:
DESCRIPTION:<p><a
 href="https://www.asca44.com/en-savoir-plus/formation-continue-revision-pse-176607"
 target="_blank" rel="noreferrer noopener">inscription</a></p>
URL;VALUE=URI:https://www.asca44.com/evenements/2026/05/08/fc-pse-revision-2429501
END:VEVENT
END:VCALENDAR
