BEGIN:VCALENDAR
VERSION:2.0
PRODID:-//hacksw/handcal//NONSGML v1.0//EN
BEGIN:VEVENT
SUMMARY:DPS course BMX departementale
UID:c75a63d7-f182-4326-876b-54261b4b3fff
DTSTART:20260516T120000Z
DTEND:20260516T140000Z
LOCATION:Localisation Presqu'ile bmx la Turballe 44420 La Turballe
CATEGORIES:Manifestation
STATUS:
URL;VALUE=URI:https://www.asca44.com/evenements/2026/05/16/dps-course-bmx-departementale-2414537
END:VEVENT
END:VCALENDAR
