BEGIN:VCALENDAR
VERSION:2.0
PRODID:-//hacksw/handcal//NONSGML v1.0//EN
BEGIN:VEVENT
SUMMARY:DPS course nature RCC
UID:ca668e91-1afe-43a6-bacd-a414e23a502e
DTSTART:20260524T063000Z
DTEND:20260524T103000Z
LOCATION:Localisation stade constant germon 44490 le Croisic
CATEGORIES:Manifestation
STATUS:
URL;VALUE=URI:https://www.asca44.com/evenements/2026/05/24/dps-course-nature-rcc-2414542
END:VEVENT
END:VCALENDAR
