BEGIN:VCALENDAR
VERSION:2.0
PRODID:-//hacksw/handcal//NONSGML v1.0//EN
BEGIN:VEVENT
SUMMARY:DPS Mare Trail 2
UID:297b840c-faf4-485b-b759-56dcd19c7645
DTSTART:20260607T060000Z
DTEND:20260607T120000Z
LOCATION:Localisation place du marche 44420 la Turballe
CATEGORIES:Manifestation
STATUS:
URL;VALUE=URI:https://www.asca44.com/evenements/2026/06/07/dps-mare-trail-2-2414547
END:VEVENT
END:VCALENDAR
